BEGIN:VCALENDAR
VERSION:2.0
PRODID:-//Black and Coloured Sheep Breeders Association of New Zealand - ECPv6.10.1.1//NONSGML v1.0//EN
CALSCALE:GREGORIAN
METHOD:PUBLISH
X-ORIGINAL-URL:https://www.colouredsheep.org.nz
X-WR-CALDESC:Events for Black and Coloured Sheep Breeders Association of New Zealand
REFRESH-INTERVAL;VALUE=DURATION:PT1H
X-Robots-Tag:noindex
X-PUBLISHED-TTL:PT1H
BEGIN:VTIMEZONE
TZID:Pacific/Auckland
BEGIN:STANDARD
TZOFFSETFROM:+1300
TZOFFSETTO:+1200
TZNAME:NZST
DTSTART:20250405T140000
END:STANDARD
BEGIN:DAYLIGHT
TZOFFSETFROM:+1200
TZOFFSETTO:+1300
TZNAME:NZDT
DTSTART:20250927T140000
END:DAYLIGHT
END:VTIMEZONE
BEGIN:VEVENT
DTSTART;TZID=Pacific/Auckland:20250125T090000
DTEND;TZID=Pacific/Auckland:20250125T140000
DTSTAMP:20260420T152351
CREATED:20241220T201605Z
LAST-MODIFIED:20250116T194317Z
UID:10000059-1737795600-1737813600@www.colouredsheep.org.nz
SUMMARY:South Island Sheep Sale\, Waimate Show Grounds
DESCRIPTION:Auction\n\nSheep need to be penned by 9am.\nViewing starts at 10.30am.\nSale commences at midday.\n\nCatalogue of Sheep For Sale\nSouth Island Sale Catalogue 2025 \nPost Sale Field Day and Barbecue\nTo be held at the home of Stuart and Sue Albrey\, 176 Campbells Road\, Waimate. Theme to be confirmed. BYO for the barbecue. \n 
URL:https://www.colouredsheep.org.nz/event/south-island-sheep-sale-waimate-show-grounds/
LOCATION:Waimate A&P Showgrounds\, 26 Hakataramea Highway\, Waimate\, 7979\, New Zealand
CATEGORIES:National Events
END:VEVENT
END:VCALENDAR