BEGIN:VCALENDAR
VERSION:2.0
PRODID:-//Black and Coloured Sheep Breeders Association of New Zealand - ECPv6.10.1.1//NONSGML v1.0//EN
CALSCALE:GREGORIAN
METHOD:PUBLISH
X-WR-CALNAME:Black and Coloured Sheep Breeders Association of New Zealand
X-ORIGINAL-URL:https://www.colouredsheep.org.nz
X-WR-CALDESC:Events for Black and Coloured Sheep Breeders Association of New Zealand
REFRESH-INTERVAL;VALUE=DURATION:PT1H
X-Robots-Tag:noindex
X-PUBLISHED-TTL:PT1H
BEGIN:VTIMEZONE
TZID:Pacific/Auckland
BEGIN:STANDARD
TZOFFSETFROM:+1300
TZOFFSETTO:+1200
TZNAME:NZST
DTSTART:20210403T140000
END:STANDARD
BEGIN:DAYLIGHT
TZOFFSETFROM:+1200
TZOFFSETTO:+1300
TZNAME:NZDT
DTSTART:20210925T140000
END:DAYLIGHT
END:VTIMEZONE
BEGIN:VEVENT
DTSTART;TZID=Pacific/Auckland:20210427T080000
DTEND;TZID=Pacific/Auckland:20210427T170000
DTSTAMP:20260426T042317
CREATED:20210426T225136Z
LAST-MODIFIED:20210426T225136Z
UID:10000033-1619510400-1619542800@www.colouredsheep.org.nz
SUMMARY:45th Annual Conference and AGM
DESCRIPTION:The Silverpeaks branch of the BCSBA NZ are delighted to welcome members to join our 45th Annual Conference and Annual General Meeting to be held in Mosgiel\, Otago 28 April to 1 May 2022.\nMosgiel is now part of Dunedin\, though separated from the rest of the city by hills. Its history is interwoven with the wool products industry\, and it has a good range of shops\, cafes and restaurants.\nLocal tourist attractions include the Otago Peninsula\, with albatross\, penguins and seals\, and the famous Taieri Gorge Scenic Railway.
URL:https://www.colouredsheep.org.nz/event/45th-annual-conference-and-agm/
CATEGORIES:National Events
END:VEVENT
BEGIN:VEVENT
DTSTART;TZID=Pacific/Auckland:20210515T080000
DTEND;TZID=Pacific/Auckland:20210516T170000
DTSTAMP:20260426T042317
CREATED:20210503T054409Z
LAST-MODIFIED:20210503T054712Z
UID:10000034-1621065600-1621184400@www.colouredsheep.org.nz
SUMMARY:Education Weekend\, Saturday 15th & Sunday 16th May
DESCRIPTION:The Manawatu branch of the BCSBA is running a two-day education weekend\, hosted by Wayne and Lynley Coffey on their farm near Feilding.\nTopics include:\nSaturday\nSheep judging and selection\nHandcraft\nWool\, and wool judging\nGear grinding \nThere will be a barbeque dinner on Saturday evening\, compliments of the Manawatu branch \nSunday\nPaddock care\nEnd uses for wool\nOther topics that may be requested \nFor more details click here
URL:https://www.colouredsheep.org.nz/event/education-weekend-saturday-15th-sunday-16th-may/
LOCATION:1009 Taonui Road\, Colyton\, Feilding\, 1009 Taonui Road\, Colyton\,\, Feilding\, New Zealand
END:VEVENT
END:VCALENDAR