BEGIN:VCALENDAR
VERSION:2.0
PRODID:-//Black and Coloured Sheep Breeders Association of New Zealand - ECPv6.10.1.1//NONSGML v1.0//EN
CALSCALE:GREGORIAN
METHOD:PUBLISH
X-WR-CALNAME:Black and Coloured Sheep Breeders Association of New Zealand
X-ORIGINAL-URL:https://www.colouredsheep.org.nz
X-WR-CALDESC:Events for Black and Coloured Sheep Breeders Association of New Zealand
REFRESH-INTERVAL;VALUE=DURATION:PT1H
X-Robots-Tag:noindex
X-PUBLISHED-TTL:PT1H
BEGIN:VTIMEZONE
TZID:Pacific/Auckland
BEGIN:STANDARD
TZOFFSETFROM:+1300
TZOFFSETTO:+1200
TZNAME:NZST
DTSTART:20250405T140000
END:STANDARD
BEGIN:DAYLIGHT
TZOFFSETFROM:+1200
TZOFFSETTO:+1300
TZNAME:NZDT
DTSTART:20250927T140000
END:DAYLIGHT
END:VTIMEZONE
BEGIN:VEVENT
DTSTART;VALUE=DATE:20250111
DTEND;VALUE=DATE:20250112
DTSTAMP:20260420T155232
CREATED:20241019T204654Z
LAST-MODIFIED:20241231T011341Z
UID:10000058-1736553600-1736639999@www.colouredsheep.org.nz
SUMMARY:North Island Sale of Sheep 2025
DESCRIPTION:Black and Coloured Sheep Breeders’ Association of New Zealand (BCSBA NZ)\nSaturday 11 January\, 2025\, Dannevirke Showgrounds. \nViewing commences10:00am. \nSale commences at 11:00am. \nSheep must be penned on site by 9:00am for inspection. \nVendors must be members of the BCSBA. Members of the public are welcome to purchase sheep.Sale Catalogue NI sale 2025 \nRegistrations of sheep for sale will close on Monday 23rd December 2024. \nFor More Details See Also:\nINFORMATION FOR VENDORS AND PURCHASERS 2025 \nCATALOGUE OF SHEEP FOR SALE 2025 \n 
URL:https://www.colouredsheep.org.nz/event/north-island-sale-of-sheep-2025/
LOCATION:Dannevirke A & P Showgrounds\, 310 High Street\, Dannevirke\, 4930\, New Zealand
CATEGORIES:National Events
END:VEVENT
END:VCALENDAR