BEGIN:VCALENDAR
VERSION:2.0
PRODID:-//Black and Coloured Sheep Breeders Association of New Zealand - ECPv6.10.1.1//NONSGML v1.0//EN
CALSCALE:GREGORIAN
METHOD:PUBLISH
X-WR-CALNAME:Black and Coloured Sheep Breeders Association of New Zealand
X-ORIGINAL-URL:https://www.colouredsheep.org.nz
X-WR-CALDESC:Events for Black and Coloured Sheep Breeders Association of New Zealand
REFRESH-INTERVAL;VALUE=DURATION:PT1H
X-Robots-Tag:noindex
X-PUBLISHED-TTL:PT1H
BEGIN:VTIMEZONE
TZID:Pacific/Auckland
BEGIN:STANDARD
TZOFFSETFROM:+1300
TZOFFSETTO:+1200
TZNAME:NZST
DTSTART:20240406T140000
END:STANDARD
BEGIN:DAYLIGHT
TZOFFSETFROM:+1200
TZOFFSETTO:+1300
TZNAME:NZDT
DTSTART:20240928T140000
END:DAYLIGHT
END:VTIMEZONE
BEGIN:VEVENT
DTSTART;TZID=Pacific/Auckland:20240714T133000
DTEND;TZID=Pacific/Auckland:20240714T170000
DTSTAMP:20260420T165416
CREATED:20240602T014631Z
LAST-MODIFIED:20240602T014859Z
UID:10000056-1720963800-1720976400@www.colouredsheep.org.nz
SUMMARY:Wool Preparation Afternoon - South Canterbury/Waitaki
DESCRIPTION:This afternoon will demonstrate and discuss the preparation of fleece for handcraft purposes\, and for entering into A&P Shows and other competitions.
URL:https://www.colouredsheep.org.nz/event/wool-preparation-afternoon/
LOCATION:Home of Stuart and Sue Albrey\, 176 Campbells Road\, Waimate\, South Canterbury\, 7979\, New Zealand
CATEGORIES:South Canterbury-Waitaki
END:VEVENT
END:VCALENDAR