BEGIN:VCALENDAR
VERSION:2.0
PRODID:-//Black and Coloured Sheep Breeders Association of New Zealand - ECPv6.10.1.1//NONSGML v1.0//EN
CALSCALE:GREGORIAN
METHOD:PUBLISH
X-WR-CALNAME:Black and Coloured Sheep Breeders Association of New Zealand
X-ORIGINAL-URL:https://www.colouredsheep.org.nz
X-WR-CALDESC:Events for Black and Coloured Sheep Breeders Association of New Zealand
REFRESH-INTERVAL;VALUE=DURATION:PT1H
X-Robots-Tag:noindex
X-PUBLISHED-TTL:PT1H
BEGIN:VTIMEZONE
TZID:Pacific/Auckland
BEGIN:STANDARD
TZOFFSETFROM:+1300
TZOFFSETTO:+1200
TZNAME:NZST
DTSTART:20240406T140000
END:STANDARD
BEGIN:DAYLIGHT
TZOFFSETFROM:+1200
TZOFFSETTO:+1300
TZNAME:NZDT
DTSTART:20240928T140000
END:DAYLIGHT
END:VTIMEZONE
BEGIN:VEVENT
DTSTART;TZID=Pacific/Auckland:20240419T100000
DTEND;TZID=Pacific/Auckland:20240419T160000
DTSTAMP:20260422T074341
CREATED:20240302T230423Z
LAST-MODIFIED:20240302T230528Z
UID:10000054-1713520800-1713542400@www.colouredsheep.org.nz
SUMMARY:A morning of fleece frolics
DESCRIPTION:The Nelson branch of the Black and Coloured Sheep Breeders’ Association invites all wool and craft enthusiasts to a\nmorning of fleece frolics – and the opportunity to BUY fleeces from the National Fleece Competition! \nLoretta Sloan – many times WOW entrant and a well known fibre artist\, speaking about her felting creations and inspiration\, and Catherine Jane who will speak about using the judging card to inform your choice of fleece. Catherine will be available to help select your special fleece\, if required. Also on view (some for sale) will be our open class of a hand-held toy and our other national competitions – sheepskins\, handcraft and photography. \n$5 per person inc. tea or coffee \nFor more information see also You’re invited
URL:https://www.colouredsheep.org.nz/event/a-morning-of-fleece-frolics/
LOCATION:Scenic Hotel Marlborough\, 65 Alfred Street\,\, Blenheim\, Marlborough\, 7201\, New Zealand
CATEGORIES:Nelson
END:VEVENT
END:VCALENDAR