BEGIN:VCALENDAR
VERSION:2.0
PRODID:-//Black and Coloured Sheep Breeders Association of New Zealand - ECPv6.10.1.1//NONSGML v1.0//EN
CALSCALE:GREGORIAN
METHOD:PUBLISH
X-WR-CALNAME:Black and Coloured Sheep Breeders Association of New Zealand
X-ORIGINAL-URL:https://www.colouredsheep.org.nz
X-WR-CALDESC:Events for Black and Coloured Sheep Breeders Association of New Zealand
REFRESH-INTERVAL;VALUE=DURATION:PT1H
X-Robots-Tag:noindex
X-PUBLISHED-TTL:PT1H
BEGIN:VTIMEZONE
TZID:Pacific/Auckland
BEGIN:STANDARD
TZOFFSETFROM:+1300
TZOFFSETTO:+1200
TZNAME:NZST
DTSTART:20250405T140000
END:STANDARD
BEGIN:DAYLIGHT
TZOFFSETFROM:+1200
TZOFFSETTO:+1300
TZNAME:NZDT
DTSTART:20250927T140000
END:DAYLIGHT
END:VTIMEZONE
BEGIN:VEVENT
DTSTART;TZID=Pacific/Auckland:20250219T180000
DTEND;TZID=Pacific/Auckland:20250219T220000
DTSTAMP:20260420T114307
CREATED:20250129T005827Z
LAST-MODIFIED:20250129T080945Z
UID:10000060-1739988000-1740002400@www.colouredsheep.org.nz
SUMMARY:South Canterbury Branch AGM\, 19 February.
DESCRIPTION:Meet at the Makikihi hotel at 6pm for dinner. The meeting will follow.
URL:https://www.colouredsheep.org.nz/event/south-canterbury-branch-agm/
LOCATION:Makikihi Hotel\, 36 Waimate Highway\, RD 8\, Makikihi\, Waimate\, 7978\, New Zealand
END:VEVENT
END:VCALENDAR