BEGIN:VCALENDAR
VERSION:2.0
PRODID:-//Black and Coloured Sheep Breeders Association of New Zealand - ECPv6.10.1.1//NONSGML v1.0//EN
CALSCALE:GREGORIAN
METHOD:PUBLISH
X-WR-CALNAME:Black and Coloured Sheep Breeders Association of New Zealand
X-ORIGINAL-URL:https://www.colouredsheep.org.nz
X-WR-CALDESC:Events for Black and Coloured Sheep Breeders Association of New Zealand
REFRESH-INTERVAL;VALUE=DURATION:PT1H
X-Robots-Tag:noindex
X-PUBLISHED-TTL:PT1H
BEGIN:VTIMEZONE
TZID:Pacific/Auckland
BEGIN:STANDARD
TZOFFSETFROM:+1300
TZOFFSETTO:+1200
TZNAME:NZST
DTSTART:20210403T140000
END:STANDARD
BEGIN:DAYLIGHT
TZOFFSETFROM:+1200
TZOFFSETTO:+1300
TZNAME:NZDT
DTSTART:20210925T140000
END:DAYLIGHT
END:VTIMEZONE
BEGIN:VEVENT
DTSTART;VALUE=DATE:20210415
DTEND;VALUE=DATE:20210419
DTSTAMP:20260426T041628
CREATED:20200701T033604Z
LAST-MODIFIED:20200701T033604Z
UID:10000027-1618444800-1618790399@www.colouredsheep.org.nz
SUMMARY:44th Annual Conference and AGM
DESCRIPTION:The Wairarapa branch of the BCSBANZ would like to invite all members to the 2021 National Conference and AGM\, to be held in Masterton\, the Wairarapa’s largest town. The winner of the New Zealand’s Most Beautiful City Award in 2017\, Masterton has something for everyone\, shopping\, cycle trails\, art and great food. The perfect base to explore the whole region. \n‘
URL:https://www.colouredsheep.org.nz/event/44th-annual-conference-and-agm/
LOCATION:Copthorne Hotel and Resort Solway Park\, Masterton\, High Street\, Solway\, Masterton\, 5810\, New Zealand
CATEGORIES:National Events
ORGANIZER;CN="Patrizia Vieno":MAILTO:pvieno@hotmail.com
END:VEVENT
END:VCALENDAR